BEGIN:VCALENDAR
VERSION:2.0
PRODID:-//Le Phoenix - ECPv6.15.20//NONSGML v1.0//EN
CALSCALE:GREGORIAN
METHOD:PUBLISH
X-WR-CALNAME:Le Phoenix
X-ORIGINAL-URL:https://www.le-phoenix-asso.com
X-WR-CALDESC:Évènements pour Le Phoenix
REFRESH-INTERVAL;VALUE=DURATION:PT1H
X-Robots-Tag:noindex
X-PUBLISHED-TTL:PT1H
BEGIN:VTIMEZONE
TZID:Europe/Paris
BEGIN:DAYLIGHT
TZOFFSETFROM:+0100
TZOFFSETTO:+0200
TZNAME:CEST
DTSTART:20250330T010000
END:DAYLIGHT
BEGIN:STANDARD
TZOFFSETFROM:+0200
TZOFFSETTO:+0100
TZNAME:CET
DTSTART:20251026T010000
END:STANDARD
BEGIN:DAYLIGHT
TZOFFSETFROM:+0100
TZOFFSETTO:+0200
TZNAME:CEST
DTSTART:20260329T010000
END:DAYLIGHT
BEGIN:STANDARD
TZOFFSETFROM:+0200
TZOFFSETTO:+0100
TZNAME:CET
DTSTART:20261025T010000
END:STANDARD
BEGIN:DAYLIGHT
TZOFFSETFROM:+0100
TZOFFSETTO:+0200
TZNAME:CEST
DTSTART:20270328T010000
END:DAYLIGHT
BEGIN:STANDARD
TZOFFSETFROM:+0200
TZOFFSETTO:+0100
TZNAME:CET
DTSTART:20271031T010000
END:STANDARD
END:VTIMEZONE
BEGIN:VEVENT
DTSTART;TZID=Europe/Paris:20260516T133000
DTEND;TZID=Europe/Paris:20260516T163000
DTSTAMP:20260425T181112
CREATED:20260424T131524Z
LAST-MODIFIED:20260424T150156Z
UID:7143-1778938200-1778949000@www.le-phoenix-asso.com
SUMMARY:WUO TAI : massage ostéo-somatique (atelier)
DESCRIPTION:Cet atelier de massage Wùo Taï propose des enchainements guidés du massage ostéo-somatique créé par l’ostéopathe/kiné Roland COMBES (Wùo Taï.com). \n« Wùo » entre « Wu » le cercle et « Ou » paire ou double.\n« Taï » grand comme le dehors.\nLe Wuo Taï peut donc être traduit comme « Entre deux cercles » ou « Entre l’Univers ». \nIl est inspiré de l’alliance de la danse et de l’ostéopathie c’est pourquoi cette pratique est aussi nommée « ostéo-danse » . \nElle s’invite du mélange de mouvements elliptiques à deux\, au sol\, à la frontière entre les gestes d’hier et d’aujourd’hui. \n— \n\n \nAtelier dirigé par Carey JEFFRIES\nDanseuse\, masseuse\, yogini et plasticienne\ndeepcontacts.com \n— \nLieu :\nLa Dragonnière (Saint-Mammès) \n\n\nDate :\nsamedi 16 mai 2026\nde 13h30 à 16h30 \nTarifs :\nPlein tarif 30€*\nTarif solidaire 20€*\nTarif soutien 35€*\n* (+5€ adhésion annuelle au Phoenix si vous n’êtes pas encore adhérent !)\n Ce tarif comprend l’entrée gratuite pour la Dance JAM de DEEP CONTACT qui suit le stage (17h/19h à La Dragonnière)\n \n☎️ Infos et réservations : 06 79 26 11 28\nRéservations impératives\, merci ! \nOn vous dira également où il fait bon de se garer pour ne pas gêner notre voisinage 🚗 \n—
URL:https://www.le-phoenix-asso.com/event/wuo-tai-massage-osteo-somatique-atelier/
LOCATION:La Dragonnière\, 42 Rue Alfred Pierrard\, Saint-Mammès\, 77670\, France
CATEGORIES:Ateliers/stages adultes,Ateliers/stages Bien-être,Wùo Taï
ATTACH;FMTTYPE=image/jpeg:https://www.le-phoenix-asso.com/wp-content/uploads/2026/04/20260516_Wuo-Tai_VIGNETTE.jpg
END:VEVENT
END:VCALENDAR